BEGIN:VCALENDAR
VERSION:2.0
PRODID:-//hacksw/handcal//NONSGML v1.0//EN
BEGIN:VEVENT
SUMMARY:Tournoi caritatif
UID:d2837c40-758f-499e-a32f-4d5284a86acf
DTSTART:20260612T130000Z
DTEND:20260612T170000Z
LOCATION:Localisation   
CATEGORIES:Caritatif
STATUS:
DESCRIPTION:<p><font size="4">Comme l'an dernier, a l'initiative du
 Lions Club Hossegor Cote Sud des Landes, nous organisons un tournoi
 caritatif dont les participations seront reversees au profit des
 enfants atteints de cancer.</font></p>
 
 <p><font size="4"> Ce
 tournoi aura lieu le <b>vendredi 12 juin 2026</b>, et sera suivi d'un
 verre de l’amitie.</font></p>
 
 <p><font size="4"> </font></p>
URL;VALUE=URI:https://hossegor.sportsregions.fr/evenements/2026/06/12/tournoi-caritatif-2442634
END:VEVENT
END:VCALENDAR
